BEGIN:VCALENDAR
PRODID:-//Microsoft Corporation//Outlook 11.0 MIMEDIR//EN
VERSION:2.0
CALSCALE:GREGORIAN
METHOD:PUBLISH
BEGIN:VEVENT
UID:20260419T222742-885200828@ecco.be
DTSTART:20211027T100000
DTEND:20211027T123000
DTSTAMP:20260419T202742
SUMMARY:Community 365 Roundtable Meeting on Metastatic Cancer
DESCRIPTION: The Community 365 Roundtable Meeting on the topic of Metastatic Cancer took place on Wednesday 27 October from 10:00-12:30 CEST. \nThis meeting brought together leading policy-makers, politicians, oncology experts and patient advocates to discuss the implementation of Europe’s Beating Cancer Plan and Cancer Mission, as well as other EU policy developments relating to metastatic cancer.
LOCATION: Virtual Meeting, , 
TRANSP:OPAQUE
END:VEVENT
END:VCALENDAR
