BEGIN:VCALENDAR
PRODID:-//Microsoft Corporation//Outlook 11.0 MIMEDIR//EN
VERSION:2.0
CALSCALE:GREGORIAN
METHOD:PUBLISH
BEGIN:VEVENT
UID:20260423T141430-643753305@ecco.be
DTSTART:20190912T120000
DTEND:20190914T090000
DTSTAMP:20260423T121430
SUMMARY:ECCO 2019 European Cancer Summit
DESCRIPTION: European Cancer Care: Across Borders\nThe ECCO 2019 European Cancer Summit on 12-14 September 2019 in Brussels, Belgium brought together worldwide leaders from cancer care, research, patient advocacy and public-private sectors in a unique multi-stakeholder forum. The theme of the second edition of the 2019 Summit is: “European Cancer Care: Across Borders”.\n
LOCATION: Brussels Marriott Hotel, , 
TRANSP:OPAQUE
END:VEVENT
END:VCALENDAR
