BEGIN:VCALENDAR
PRODID:-//Microsoft Corporation//Outlook 11.0 MIMEDIR//EN
VERSION:2.0
CALSCALE:GREGORIAN
METHOD:PUBLISH
BEGIN:VEVENT
UID:20260419T220600-987724714@ecco.be
DTSTART:20251210T150000
DTEND:20251210T170000
DTSTAMP:20260419T200600
SUMMARY:Advancing Mental Health in Cancer Care through Digital Innovation
DESCRIPTION: Joint Stakeholder Forum of the ALTHEA and DESIPOC projects\nMore than 40% of cancer patients report their mental health is deteriorating; yet only 19% receive psychiatric or psychological support.\n \nQuality cancer care can only be achieved through a holistic approach that addresses the psychosocial well-being and quality of life of patients.\n \nEU-funded initiatives such as ALTHEA and DESIPOC are already tackling this issue with new technologies to better diagnose and monitor cancer patients.\n \nThis end-of-the-year stakeholder forum focused on these projects, exchanging with cross-sector experts and patient representatives, and discussing how technology can bridge the gap between mental health needs and available care.\n \nThe online event, hosted by the European Cancer Organisation (ECO), took place on Wednesday 10 December from 15:00 to 17:00 CET.
LOCATION: Online, , 
TRANSP:OPAQUE
END:VEVENT
END:VCALENDAR
