BEGIN:VCALENDAR
PRODID:-//Microsoft Corporation//Outlook 11.0 MIMEDIR//EN
VERSION:2.0
CALSCALE:GREGORIAN
METHOD:PUBLISH
BEGIN:VEVENT
UID:20260423T124046-1249230994@ecco.be
DTSTART:20251023T150000
DTEND:20251023T173000
DTSTAMP:20260423T104046
SUMMARY:Community 365 Roundtable: Sustaining our oncology professions - Meeting their needs
DESCRIPTION: 
LOCATION: Online, , 
TRANSP:OPAQUE
END:VEVENT
END:VCALENDAR
