BEGIN:VCALENDAR
PRODID:-//Microsoft Corporation//Outlook 11.0 MIMEDIR//EN
VERSION:2.0
CALSCALE:GREGORIAN
METHOD:PUBLISH
BEGIN:VEVENT
UID:20260424T124933-731434120@ecco.be
DTSTART:20250625T160000
DTEND:20250625T173000
DTSTAMP:20260424T104933
SUMMARY:Young Cancer Professionals Roundtable: Empathy in Cancer Treatment and Compassion Fatigue
DESCRIPTION: Cancer is a complex experience, affecting not only the body but also the mind. Empathetic care reduces the uncertainty and stress felt by many patients, prompting them to be more receptive to treatment, accelerating progress, and achieving better outcomes.  \n \nIn a field where compassion can be lifesaving, healthcare professionals often walk a fine line between caring for others and safeguarding their own well-being.  \n \nThe International Psycho-Oncology Society (IPOS) and the European Cancer Organisation brought a special Young Cancer Professionals Roundtable on ‘Empathy in cancer treatment and compassion fatigue.’  \n \nParticipants shared insights from their professional experience and shared strategies to navigate the challenges of empathetic care. \n \nThe online event took place on Wednesday 25 June, 16:00–17:30 CEST. 
LOCATION: Online, , 
TRANSP:OPAQUE
END:VEVENT
END:VCALENDAR
