BEGIN:VCALENDAR
PRODID:-//Microsoft Corporation//Outlook 11.0 MIMEDIR//EN
VERSION:2.0
CALSCALE:GREGORIAN
METHOD:PUBLISH
BEGIN:VEVENT
UID:20260419T160751-2047262154@ecco.be
DTSTART:20260217T143000
DTEND:20260218T084500
DTSTAMP:20260419T140751
SUMMARY:European Cancer Screening and Early Detection Policy Summit
DESCRIPTION: Newly Implementable Programmes for Prostate, Lung and Gastric Cancer Screening\nThree years ago, the European Union reshaped the agenda on cancer screening. The goal? Save lives through early detection, with a focus on prostate, lung, and gastric cancer.\n \nHow? Launch a series of projects – PRAISE-U, SOLACE, and TOGAS – to pilot and prepare for the implementation of new screening programmes which account for the needs of individuals and their different backgrounds. The time had come to assess the progress and turn pilots into programmes.\n \nThis unique event for the cancer community took place on 17 & 18 February in Brussels and online. Thank you for being a part of it.
LOCATION: Cardo Brussels (& online), , 
TRANSP:OPAQUE
END:VEVENT
END:VCALENDAR
