BEGIN:VCALENDAR
PRODID:-//Microsoft Corporation//Outlook 11.0 MIMEDIR//EN
VERSION:2.0
CALSCALE:GREGORIAN
METHOD:PUBLISH
BEGIN:VEVENT
UID:20260424T230253-1066948772@ecco.be
DTSTART:20241127T140000
DTEND:20241127T150000
DTSTAMP:20260424T210253
SUMMARY:PROTECT-EUROPE Masterclass 10 - No One Left Behind: Reaching Marginalised Communities with HPV Protection
DESCRIPTION: 
TRANSP:OPAQUE
END:VEVENT
END:VCALENDAR
