BEGIN:VCALENDAR
PRODID:-//Microsoft Corporation//Outlook 11.0 MIMEDIR//EN
VERSION:2.0
CALSCALE:GREGORIAN
METHOD:PUBLISH
BEGIN:VEVENT
UID:20260424T224824-1434646677@ecco.be
DTSTART:20241010T103000
DTEND:20241010T123000
DTSTAMP:20260424T204824
SUMMARY:PROTECT-EUROPE Masterclasses 6 & 7 - Let's Talk HPV
DESCRIPTION: 
LOCATION: Virtual, , 
TRANSP:OPAQUE
END:VEVENT
END:VCALENDAR
