BEGIN:VCALENDAR
PRODID:-//Microsoft Corporation//Outlook 11.0 MIMEDIR//EN
VERSION:2.0
CALSCALE:GREGORIAN
METHOD:PUBLISH
BEGIN:VEVENT
UID:20260424T224409-271834236@ecco.be
DTSTART:20240422T150000
DTEND:20240422T160000
DTSTAMP:20260424T204409
SUMMARY:Breaking Barriers: Understanding HPV Epidemiology and Reaching Equity Through Gender-Neutral Vaccination
DESCRIPTION: 
LOCATION: Virtual, , 
TRANSP:OPAQUE
END:VEVENT
END:VCALENDAR
