BEGIN:VCALENDAR
PRODID:-//Microsoft Corporation//Outlook 11.0 MIMEDIR//EN
VERSION:2.0
CALSCALE:GREGORIAN
METHOD:PUBLISH
BEGIN:VEVENT
UID:20260423T104338-258990035@ecco.be
DTSTART:20221116T084500
DTEND:20221117T090000
DTSTAMP:20260423T084338
SUMMARY:European Cancer Summit 2022
DESCRIPTION: Delivering Effective & Equitable Care Together\nThis year’s European Cancer Summit focused on the most important topics in cancer for a wide-ranging discussion focused on delivery and collaboration. In these turbulent times, with huge pressures on cancer services across Europe, we brought together leading oncology experts, patient advocates, politicians and policy makers. We had an exciting programme and speaker line-up to discuss the main issues impacting cancer policy, for the benefit of cancer patients, healthcare professionals and all people across Europe.   \nThe Summit was hosted in Brussels and the majority of delegates joined us in person. We invite everyone to now save the date for next year's Summit – 15 & 16 November 2023.  
LOCATION: Radisson Collection Hotel, Grand Place Brussels (and Virtual), , 
TRANSP:OPAQUE
END:VEVENT
END:VCALENDAR
