BEGIN:VCALENDAR
PRODID:-//Microsoft Corporation//Outlook 11.0 MIMEDIR//EN
VERSION:2.0
CALSCALE:GREGORIAN
METHOD:PUBLISH
BEGIN:VEVENT
UID:20260423T173141-953756775@ecco.be
DTSTART:20220204T110000
DTEND:20220204T120000
DTSTAMP:20260423T153141
SUMMARY:Time To Act Ireland: Don't let Covid-19 stop you from tackling Cancer
DESCRIPTION: We are pleased to announce the virtual launch event of the Time To Act campaign in over 30 languages:  Don’t let Covid-19 stop you from tackling Cancer. \nSee the recording of this event here.
LOCATION: Virtual, , 
TRANSP:OPAQUE
END:VEVENT
END:VCALENDAR
