BEGIN:VCALENDAR
PRODID:-//Microsoft Corporation//Outlook 11.0 MIMEDIR//EN
VERSION:2.0
CALSCALE:GREGORIAN
METHOD:PUBLISH
BEGIN:VEVENT
UID:20260423T193051-906159534@ecco.be
DTSTART:20211022T110000
DTEND:20211022T123000
DTSTAMP:20260423T173051
SUMMARY:Time To Act: Ne dovolite covidu, da vas ustavi pri obvladovanju raka
DESCRIPTION: Z veseljem napovedujemo virtualno otvoritev kampanje 'Time To Act' v več kot dvajsetih jezikih: Ne dovolite, da vas pandemija covida ustavi pri obvladovanju raka.\n \nVideo posnetek prenosa v živo si lahko ogledate tukaj. \n
LOCATION: Virtual, , 
TRANSP:OPAQUE
END:VEVENT
END:VCALENDAR
