BEGIN:VCALENDAR
PRODID:-//Microsoft Corporation//Outlook 11.0 MIMEDIR//EN
VERSION:2.0
CALSCALE:GREGORIAN
METHOD:PUBLISH
BEGIN:VEVENT
UID:20260423T174248-1119943115@ecco.be
DTSTART:20211012T103000
DTEND:20211012T113000
DTSTAMP:20260423T154248
SUMMARY:Time To Act: Ne dopustite da vas Covid-19 spriječi u borbi protiv raka
DESCRIPTION: Zadovoljstvo nam je najaviti virtualnu kampanju ‘Time To Act’, prevedene na više od 30 jezika: Ne dopustite da vas Covid-19 spriječi u borbi protiv raka.\n \nPogledajte ovdje video zapis sa događaja uživo.\n
LOCATION: Virtual, , 
TRANSP:OPAQUE
END:VEVENT
END:VCALENDAR
