BEGIN:VCALENDAR
PRODID:-//Microsoft Corporation//Outlook 11.0 MIMEDIR//EN
VERSION:2.0
CALSCALE:GREGORIAN
METHOD:PUBLISH
BEGIN:VEVENT
UID:20260423T173819-580469155@ecco.be
DTSTART:20211014T110000
DTEND:20211014T120000
DTSTAMP:20260423T153819
SUMMARY:Time To Act: Μην αφήσεις την COVID-19 να σε εμποδίσει να αντιμετωπίσεις τον καρκίνο
DESCRIPTION: Είμαστε στην ευχάριστη θέση να ανακοινώσουμε την διαδικτυακή έναρξη της καμπάνιας «Time To Act» σε 20 γλώσσες: Μην αφήσεις την COVID-19 να σε εμποδίσει να αντιμετωπίσεις τον Καρκίνο.\n \nΔείτε το βίντεο από την εκδήλωση σε επανάληψη εδώ.  \n
LOCATION: Virtual, , 
TRANSP:OPAQUE
END:VEVENT
END:VCALENDAR
