BEGIN:VCALENDAR
PRODID:-//Microsoft Corporation//Outlook 11.0 MIMEDIR//EN
VERSION:2.0
CALSCALE:GREGORIAN
METHOD:PUBLISH
BEGIN:VEVENT
UID:20260423T173454-537880974@ecco.be
DTSTART:20210914T110000
DTEND:20210914T120000
DTSTAMP:20260423T153454
SUMMARY:Time To Act: Tħallix il-COVID-19 iwaqqfek milli tindirizza l-kanċer
DESCRIPTION: We are pleased to announce the virtual launch event of the Time To Act campaign in over 30 languages:  Don’t let Covid-19 stop you from tackling Cancer. \n \nSee the recording of this event here. 
LOCATION: Virtual, , 
TRANSP:OPAQUE
END:VEVENT
END:VCALENDAR
