BEGIN:VCALENDAR
PRODID:-//Microsoft Corporation//Outlook 11.0 MIMEDIR//EN
VERSION:2.0
CALSCALE:GREGORIAN
METHOD:PUBLISH
BEGIN:VEVENT
UID:20260419T230646-1395760650@ecco.be
DTSTART:20210511T110000
DTEND:20210511T120000
DTSTAMP:20260419T210646
SUMMARY:Time To Act: Don’t let Covid-19 stop you from tackling Cancer
DESCRIPTION: \nVirtual event to launch the Time To Act campaign in over 30 languages: Don’t let Covid-19 stop you from tackling Cancer. \n\nWatch the video recording from the live event here.\n\nThis event brought together European political leaders in cancer, including EU Health Commissioner Stella Kyriakides and the Chair and MEPs from the EU Parliament’s Special Committee on Beating Cancer (BECA), as well as other policy-makers, healthcare professionals and patient advocates who are all very concerned about the negative impact of Covid-19 on Cancer.  We are very grateful to our Campaign Supporters including our Member Societies, Patient Advocacy Groups and some Community 365 Contributors.  Please share the Time To Act campaign information with your network of contacts working in Cancer across Europe.\n   
LOCATION: Virtual Event, , 
TRANSP:OPAQUE
END:VEVENT
END:VCALENDAR
